BEGIN:VCALENDAR
VERSION:2.0
BEGIN:VEVENT
DTSTART;TZID=US/Eastern:20140114T164000
DTEND;TZID=US/Eastern:20140114T173000
SUMMARY:Stationary black holes and the Schwarzschild metric, cont.  -- Brad Bassler
DESCRIPTION:Mathematical Physics Seminar. 
LOCATION:Physics Building Conference Room (204B)
END:VEVENT
END:VCALENDAR