BEGIN:VCALENDAR
VERSION:2.0
BEGIN:VEVENT
DTSTART;TZID=US/Eastern:20131120T164000
DTEND;TZID=US/Eastern:20131120T173000
SUMMARY:General Relativity and Cosmology: A Tale of Omegas -- Loris Magnani
DESCRIPTION:Mathematical Physics Seminar. 
LOCATION:
END:VEVENT
END:VCALENDAR