BEGIN:VCALENDAR
VERSION:2.0
BEGIN:VEVENT
DTSTART;TZID=US/Eastern:20131113T164000
DTEND;TZID=US/Eastern:20131113T173000
SUMMARY:Introductory discussion of the Einstein equation -- Robert Varley
DESCRIPTION:Mathematical Physics Seminar. 
LOCATION:
END:VEVENT
END:VCALENDAR