BEGIN:VCALENDAR
VERSION:2.0
BEGIN:VEVENT
DTSTART;TZID=US/Eastern:20131105T123000
DTEND;TZID=US/Eastern:20131105T133000
SUMMARY:Interactions of atoms, molecules, and surfaces - pushing the limits of accuracy -- Konrad Patkowski
DESCRIPTION:CSP Lunch Seminar. 
LOCATION:CSP Conference Room (Room 322)
END:VEVENT
END:VCALENDAR