BEGIN:VCALENDAR
VERSION:2.0
BEGIN:VEVENT
DTSTART;TZID=US/Eastern:20131106T164000
DTEND;TZID=US/Eastern:20131106T173000
SUMMARY:- no meeting this week -- 
DESCRIPTION:Mathematical Physics Seminar. 
LOCATION:
END:VEVENT
END:VCALENDAR