BEGIN:VCALENDAR
VERSION:2.0
BEGIN:VEVENT
DTSTART;TZID=US/Eastern:20131030T164000
DTEND;TZID=US/Eastern:20131030T174000
SUMMARY:The Adomian decomposition -- Mack Elrod
DESCRIPTION:Mathematical Physics Seminar. 
LOCATION:
END:VEVENT
END:VCALENDAR