BEGIN:VCALENDAR
VERSION:2.0
BEGIN:VEVENT
DTSTART;TZID=US/Eastern:20131015T123000
DTEND;TZID=US/Eastern:20131015T133000
SUMMARY:A study of diffusion of a single polymer on a surface by molecular dynamics simulatio -- Pablo Zimmermann Coura
DESCRIPTION:CSP Lunch Seminar. 
LOCATION:CSP Conference Room (Room 322)
END:VEVENT
END:VCALENDAR