BEGIN:VCALENDAR
VERSION:2.0
BEGIN:VEVENT
DTSTART;TZID=US/Eastern:20131023T164000
DTEND;TZID=US/Eastern:20131023T173000
SUMMARY:The WKB approximation for the Schroedinger equation -- Brad Bassler
DESCRIPTION:Mathematical Physics Seminar. 
LOCATION:
END:VEVENT
END:VCALENDAR