BEGIN:VCALENDAR
VERSION:2.0
BEGIN:VEVENT
DTSTART;TZID=US/Eastern:20131008T123000
DTEND;TZID=US/Eastern:20131008T133000
SUMMARY:Sticking of atomic hydrogen on amorphous water ice, Pt. 2 -- Vijay Veeraghattam
DESCRIPTION:CSP Lunch Seminar. 
LOCATION:CSP Conference Room (Room 322)
END:VEVENT
END:VCALENDAR