BEGIN:VCALENDAR
VERSION:2.0
BEGIN:VEVENT
DTSTART;TZID=US/Eastern:20131002T164000
DTEND;TZID=US/Eastern:20131002T173000
SUMMARY:Summation of Fourier series, cont. -- Robert Varley
DESCRIPTION:Mathematical Physics Seminar. 
LOCATION:
END:VEVENT
END:VCALENDAR