BEGIN:VCALENDAR
VERSION:2.0
BEGIN:VEVENT
DTSTART;TZID=US/Eastern:20130924T123000
DTEND;TZID=US/Eastern:20130924T133000
SUMMARY:Modeling X-ray Emission with Accurate State-Selective Charge Exchange Cross Sections -- Renata Cumbee
DESCRIPTION:CSP Lunch Seminar. 
LOCATION:CSP Conference Room (Room 322)
END:VEVENT
END:VCALENDAR