BEGIN:VCALENDAR
VERSION:2.0
BEGIN:VEVENT
DTSTART;TZID=US/Eastern:20130918T164000
DTEND;TZID=US/Eastern:20130918T173000
SUMMARY:Asymptotic expansions and Fourier series -- Robert Varley
DESCRIPTION:Mathematical Physics Seminar. 
LOCATION:
END:VEVENT
END:VCALENDAR