BEGIN:VCALENDAR
VERSION:2.0
BEGIN:VEVENT
DTSTART;TZID=US/Eastern:20130820T123000
DTEND;TZID=US/Eastern:20130820T133000
SUMMARY:Overview of current services and planned infrastructure at the Georgia Advanced Computing Research Center -- Guy Cormier
DESCRIPTION:CSP Lunch Seminar. 
LOCATION:CSP Conference Room (Room 322)
END:VEVENT
END:VCALENDAR