BEGIN:VCALENDAR
VERSION:2.0
BEGIN:VEVENT
DTSTART;TZID=US/Eastern:20130814T164000
DTEND;TZID=US/Eastern:20130814T173000
SUMMARY:The analysis of divergent series -- Robert Varley
DESCRIPTION:Mathematical Physics Seminar. 
LOCATION:Physics Building Conference Room (204B)
END:VEVENT
END:VCALENDAR