BEGIN:VCALENDAR
VERSION:2.0
BEGIN:VEVENT
DTSTART;TZID=US/Eastern:20130702T123000
DTEND;TZID=US/Eastern:20130702T133000
SUMMARY:Bicritical or tetracritical: the 3D anisotropic Heisenberg antiferromagnet -- Dr. Shan-Ho Tsai
DESCRIPTION:CSP Lunch Seminar. 
LOCATION:CSP Conference Room (322)
END:VEVENT
END:VCALENDAR