BEGIN:VCALENDAR
VERSION:2.0
BEGIN:VEVENT
DTSTART;TZID=US/Eastern:20130613T133000
DTEND;TZID=US/Eastern:20130613T143000
SUMMARY:Theoretical Studies on Recent Discovered Organic Superconductors -- Director Hai-Qing Lin
DESCRIPTION:CSP Lunch Seminar. 
LOCATION:CSP Conference Room (322)
END:VEVENT
END:VCALENDAR