BEGIN:VCALENDAR
VERSION:2.0
BEGIN:VEVENT
DTSTART;TZID=US/Eastern:20130418T100000
DTEND;TZID=US/Eastern:20130418T110000
SUMMARY:A GPS-compatiable Lorentz Transformation -- Prof. Robert Buenker
DESCRIPTION:CSP Lunch Seminar. 
LOCATION:Rm. 302
END:VEVENT
END:VCALENDAR