BEGIN:VCALENDAR
VERSION:2.0
BEGIN:VEVENT
DTSTART;TZID=US/Eastern:20130416T123000
DTEND;TZID=US/Eastern:20130416T133000
SUMMARY:Ab initio complex basis function calculations of molecular resonances. -- Prof. Robert Buenker
DESCRIPTION:CSP Lunch Seminar. 
LOCATION:Rm. 302
END:VEVENT
END:VCALENDAR