BEGIN:VCALENDAR
VERSION:2.0
BEGIN:VEVENT
DTSTART;TZID=US/Eastern:20130308T160000
DTEND;TZID=US/Eastern:20130308T170000
SUMMARY:How to start a small business -- Dr. Stefan Schulze
DESCRIPTION:NanoSEC Seminar. 
LOCATION:Riverbend Research South Laboratory Auditorium
END:VEVENT
END:VCALENDAR