BEGIN:VCALENDAR
VERSION:2.0
BEGIN:VEVENT
DTSTART;TZID=US/Eastern:20130307T160000
DTEND;TZID=US/Eastern:20130307T170000
SUMMARY:Patents and copyrights for a researcher -- Dr. Gennaro J. Gama
DESCRIPTION:NanoSEC Seminar. 
LOCATION:Riverbend Research South Laboratory Auditorium
END:VEVENT
END:VCALENDAR