BEGIN:VCALENDAR
VERSION:2.0
BEGIN:VEVENT
DTSTART;TZID=US/Eastern:20130222T160000
DTEND;TZID=US/Eastern:20130222T170000
SUMMARY:Entrepreneurship for a researcher -- Dr. Christopher Hanks
DESCRIPTION:NanoSEC Seminar. 
LOCATION:Riverbend Research South Laboratory Auditorium
END:VEVENT
END:VCALENDAR