BEGIN:VCALENDAR
VERSION:2.0
BEGIN:VEVENT
DTSTART;TZID=US/Eastern:20130215T160000
DTEND;TZID=US/Eastern:20130215T170000
SUMMARY:Write a good research paper -- Prof. Zhengwei Pan
DESCRIPTION:NanoSEC Seminar. 
LOCATION:Riverbend Research South Laboratory Auditorium
END:VEVENT
END:VCALENDAR