BEGIN:VCALENDAR
VERSION:2.0
BEGIN:VEVENT
DTSTART;TZID=US/Eastern:20130208T160000
DTEND;TZID=US/Eastern:20130208T170000
SUMMARY:Give a good presentation -- Prof. Jason Locklin
DESCRIPTION:NanoSEC Seminar. 
LOCATION:Riverbend Research South Laboratory Auditorium
END:VEVENT
END:VCALENDAR