BEGIN:VCALENDAR
VERSION:2.0
BEGIN:VEVENT
DTSTART;TZID=US/Eastern:20130201T160000
DTEND;TZID=US/Eastern:20130201T170000
SUMMARY:Preparation of a Ph. D. Student -- Prof. Yiping Zhao
DESCRIPTION:NanoSEC Seminar. 
LOCATION:Riverbend Research South Laboratory Auditorium
END:VEVENT
END:VCALENDAR