BEGIN:VCALENDAR
VERSION:2.0
BEGIN:VEVENT
DTSTART;TZID=US/Eastern:20130418T160000
DTEND;TZID=US/Eastern:20130418T170000
SUMMARY:Cummings Day Graduate Awards Ceremony -- 
DESCRIPTION:Awards Ceremony. 
LOCATION:Physics Main Lobby
END:VEVENT
END:VCALENDAR