BEGIN:VCALENDAR
VERSION:2.0
BEGIN:VEVENT
DTSTART;TZID=US/Eastern:20120821T123000
DTEND;TZID=US/Eastern:20120821T133000
SUMMARY:Soaring through the Galaxy at 1/3000 times the Speed of Light -- Robin Shelton
DESCRIPTION:CSP Lunch Seminar. 
LOCATION:CSP Conference Room (322)
END:VEVENT
END:VCALENDAR