BEGIN:VCALENDAR
VERSION:2.0
BEGIN:VEVENT
DTSTART;TZID=US/Eastern:20121207T190000
DTEND;TZID=US/Eastern:20121207T210000
SUMMARY:Observatory Open House -- 
DESCRIPTION:Observatory Open House. 
LOCATION:Physics Building Observatory 4th Floor
END:VEVENT
END:VCALENDAR