BEGIN:VCALENDAR
VERSION:2.0
BEGIN:VEVENT
DTSTART;TZID=US/Eastern:20121019T200000
DTEND;TZID=US/Eastern:20121019T220000
SUMMARY:Observatory Open House -- 
DESCRIPTION:Observatory Open House. 
LOCATION:Physics Building Observatory 4th Floor
END:VEVENT
END:VCALENDAR