BEGIN:VCALENDAR
VERSION:2.0
BEGIN:VEVENT
DTSTART;TZID=US/Eastern:20120724T123000
DTEND;TZID=US/Eastern:20120724T133000
SUMMARY:Spin Lattice Dynamics - A work in progress -- Dilina Perera
DESCRIPTION:CSP Lunch Seminar. 
LOCATION:CSP Conference Room (322)
END:VEVENT
END:VCALENDAR