BEGIN:VCALENDAR
VERSION:2.0
BEGIN:VEVENT
DTSTART;TZID=US/Eastern:20120710T123000
DTEND;TZID=US/Eastern:20120710T133000
SUMMARY:An experience sharing on effective research and time management for graduate students -- Ying Wai Li
DESCRIPTION:CSP Lunch Seminar. This talk bears two purposes.  I will mainly share some experiences on what a graduate student can do and things to pay attention to at different stages, in order to build up research experiences, skills and efficiency.  Along the way, I will introduce a few little tools and tricks to help saving time on some everyday tasks, like paper searching, bookkeeping, managing data etc.
LOCATION:CSP Conference Room (322)
END:VEVENT
END:VCALENDAR