BEGIN:VCALENDAR
VERSION:2.0
BEGIN:VEVENT
DTSTART;TZID=US/Eastern:20120619T123000
DTEND;TZID=US/Eastern:20120619T133000
SUMMARY:Vacancy Interactions on SnO2 Nanofilms: Learning First-Principles Condensed Matter Physics -- Daniel Cellucci
DESCRIPTION:CSP Lunch Seminar. 
LOCATION:CSP Conference Room (322)
END:VEVENT
END:VCALENDAR