BEGIN:VCALENDAR
VERSION:2.0
BEGIN:VEVENT
DTSTART;TZID=US/Eastern:20120320T123000
DTEND;TZID=US/Eastern:20120320T133000
SUMMARY:Modified Late-time Domain Growth Behavior Due to Compressibility -- Meng Meng
DESCRIPTION:CSP Lunch Seminar. 
LOCATION:CSP Conference Room (322)
END:VEVENT
END:VCALENDAR