BEGIN:VCALENDAR
VERSION:2.0
BEGIN:VEVENT
DTSTART;TZID=US/Eastern:20120412T160000
DTEND;TZID=US/Eastern:20120412T170000
SUMMARY:The NASA Kepler Mission -- Roger Hunter
DESCRIPTION:Departmental Colloquium. 
NASA&rsquo;s Kepler Mission spacecraft was launched in March 2009.  Its chief science objective is to answer some ancient questions:  How rare is the Earth?  What fraction of stars in our galaxy harbor potentially habitable planets?  The answers to these questions may offer a profound understanding on whether life is widespread in the galaxy or whether we are possibly alone.  I will present an overview of the Kepler Mission, its science objectives, the results discovered so far, and the expectations for the mission.

LOCATION:Physics Auditorium 202
END:VEVENT
END:VCALENDAR