BEGIN:VCALENDAR
VERSION:2.0
BEGIN:VEVENT
DTSTART;TZID=US/Eastern:20120306T123000
DTEND;TZID=US/Eastern:20120306T133000
SUMMARY:Applications of Radiation Hydrodynamics in Inertial Confinement Fusion -- Yanbo Shi
DESCRIPTION:CSP Lunch Seminar. 
LOCATION:CSP Conference Room (322)
END:VEVENT
END:VCALENDAR