BEGIN:VCALENDAR
VERSION:2.0
BEGIN:VEVENT
DTSTART;TZID=US/Eastern:20120302T160000
DTEND;TZID=US/Eastern:20120302T170000
SUMMARY:Gene Delivery for Protein Drug Discovery and Gene Therapy -- Professor Dexi Liu
DESCRIPTION:NanoSEC Seminar. Discovery of protein drugs has been one of the major focuses in biotechnology. Conventional approach involves expression of the candidate protein in cultured cells, isolation of the expressed protein from cell extracts or medium, and assessment of its therapeutic activity by injecting the protein into an animal. This talk will describe a new approach toward identification of a therapeutic protein or for protein drug discovery. The strategy involves the development of gene delivery method to allow expression of the candidate gene directly in animals bearing a disease, thereby bypassing the need for preparation and administration of protein into animals. The talk will center around recent progress in development of synthetic carriers and physical method for gene delivery. The advantage and disadvantages of the deliverysystems, and their potential for gene therapy will also be discussed.
LOCATION:Riverbend Research South Laboratory Auditorium
END:VEVENT
END:VCALENDAR