BEGIN:VCALENDAR
VERSION:2.0
BEGIN:VEVENT
DTSTART;TZID=US/Eastern:20120207T123000
DTEND;TZID=US/Eastern:20120207T133000
SUMMARY:Law of Rectilinear Diameter and the Scaling Function of Liquid-Vapour Transition:  corrections to scaling versus mixing fields -- Joao Plascak
DESCRIPTION:CSP Lunch Seminar. 
LOCATION:CSP Conference Room (322)
END:VEVENT
END:VCALENDAR