BEGIN:VCALENDAR
VERSION:2.0
BEGIN:VEVENT
DTSTART;TZID=US/Eastern:20120131T123000
DTEND;TZID=US/Eastern:20120131T133000
SUMMARY:Short review: RG ideas part II Law of Rectilinear Diameter --  Joao Plascak
DESCRIPTION:CSP Lunch Seminar. 
LOCATION:CSP Conference Room (322)
END:VEVENT
END:VCALENDAR