BEGIN:VCALENDAR
VERSION:2.0
BEGIN:VEVENT
DTSTART;TZID=US/Eastern:20120126T160000
DTEND;TZID=US/Eastern:20120126T170000
SUMMARY:Loschmidt, Boltzmann and the Second Law -- Prof. Richard J. Creswick
DESCRIPTION:Departmental Colloquium. 
Since the last quarter of the 19th century, the status of the second law of thermodynamics has been fiercely debated. Boltzmann saw the 2nd law as a consequence of the complexity of molecular motions. Loschmidt argued that irreversibility cannot be derived from a fundamentally time-reversible dynamic principle.   In this talk I will describe a special class of dynamical systems for which the "Loschmidt Echo" can be observed and what such observations tell us about irreversibility and the arrow of time

LOCATION:Physics 202
END:VEVENT
END:VCALENDAR