BEGIN:VCALENDAR
VERSION:2.0
BEGIN:VEVENT
DTSTART;TZID=US/Eastern:20120120T160000
DTEND;TZID=US/Eastern:20120120T170000
SUMMARY:Imaging and mapping brain architectures -- Professor Tianming Liu
DESCRIPTION:NanoSEC Seminar. Understanding and mapping the organizational architecture of the brain has been of keen interest for centuries. With the advancements of modern imaging techniques, the pace of scientific discoveries of principles underlying the evolution, development, and organization of brain architectures has been accelerated. This talk will present our recent efforts in discovering general principles of structural, connectional and functional brain architectures by applying macro-scale neuroimaging and micro-scale bioimaging techniques and computational methods. The applications of these discovered principles in neuroscience, medicine and computer science will also be showcased and discussed.
LOCATION:Riverbend Research South Laboratory Auditorium
END:VEVENT
END:VCALENDAR