BEGIN:VCALENDAR
VERSION:2.0
BEGIN:VEVENT
DTSTART;TZID=US/Eastern:20120117T123000
DTEND;TZID=US/Eastern:20120117T133000
SUMMARY:Simple Magnetic models exhibiting continuous and discontinuous transitions (a simulation point of view, showing the droplet model for the continuous phase transition-an extension to the tricritical point) -- Joao Plascak
DESCRIPTION:CSP Lunch Seminar. 
LOCATION:Room 322, CSP Conference Room
END:VEVENT
END:VCALENDAR