BEGIN:VCALENDAR
VERSION:2.0
BEGIN:VEVENT
DTSTART;TZID=US/Eastern:20120120T190000
DTEND;TZID=US/Eastern:20120120T213000
SUMMARY:Observatory Open House -- 
DESCRIPTION:Observatory Open House. The Department of Physics and Astronomy would like to invite the public to join them for a evening to view the night sky at the department observatory. The observatory is located at the top of the Physics building. In case of inclement weather, there will be a talk. See the UGA Observatory Schedule for more information.
LOCATION:
END:VEVENT
END:VCALENDAR