BEGIN:VCALENDAR
VERSION:2.0
BEGIN:VEVENT
DTSTART;TZID=US/Eastern:20111206T123000
DTEND;TZID=US/Eastern:20111206T133000
SUMMARY:Simulations of High Velocity Clouds -- Kyujin Kwak
DESCRIPTION:CSP Lunch Seminar. 
LOCATION: CSP Conference Room (322)
END:VEVENT
END:VCALENDAR