BEGIN:VCALENDAR
VERSION:2.0
BEGIN:VEVENT
DTSTART;TZID=US/Eastern:20111129T123000
DTEND;TZID=US/Eastern:20111129T133000
SUMMARY:Should I become a Matlab Lab-Rat? - Part Deux! -- Bill Dennis
DESCRIPTION:CSP Lunch Seminar. 
LOCATION:CSP Conference Room (322)
END:VEVENT
END:VCALENDAR