BEGIN:VCALENDAR
VERSION:2.0
BEGIN:VEVENT
DTSTART;TZID=US/Eastern:20100222T080000
DTEND;TZID=US/Eastern:20100226T170000
SUMMARY:23rd Annual Center for Simulational Physics Workshop -- 
DESCRIPTION:Special Colloquium. Recent Developments in Computer Simulation Studies in Condensed Matter Physics. Please see http://www.csp.uga.edu/Workshop/2010/ for registration details.
LOCATION:CSP Conference Room (322)
END:VEVENT
END:VCALENDAR