BEGIN:VCALENDAR
VERSION:2.0
BEGIN:VEVENT
DTSTART;TZID=US/Eastern:20111004T123000
DTEND;TZID=US/Eastern:20111004T133000
SUMMARY:Thermodynamics and structural transformations of lattice HP proteins adsorption:  A Wang-Landau study (Part II) -- Ying Wai Li
DESCRIPTION:CSP Lunch Seminar. 
LOCATION: CSP Conference Room (322)
END:VEVENT
END:VCALENDAR