BEGIN:VCALENDAR
VERSION:2.0
BEGIN:VEVENT
DTSTART;TZID=US/Eastern:20110920T123000
DTEND;TZID=US/Eastern:20110920T133000
SUMMARY:Using GACRC resources: shell, compilers and running jobs -- Shan-Ho Tsai
DESCRIPTION:CSP Lunch Seminar. 
LOCATION: CSP Conference Room (Room 322)
END:VEVENT
END:VCALENDAR