BEGIN:VCALENDAR
VERSION:2.0
BEGIN:VEVENT
DTSTART;TZID=US/Eastern:20111110T160000
DTEND;TZID=US/Eastern:20111110T170000
SUMMARY:TBA -- Dr. Matteo Mariantoni
DESCRIPTION:Departmental Colloquium. 
LOCATION:Auditorium, Physics 202
END:VEVENT
END:VCALENDAR