BEGIN:VCALENDAR
VERSION:2.0
BEGIN:VEVENT
DTSTART;TZID=US/Eastern:20111103T160000
DTEND;TZID=US/Eastern:20111103T170000
SUMMARY:TBA - (Kirkpatrick Award Colloquium) -- Dr. John Gibbs
DESCRIPTION:Departmental Colloquium. 
LOCATION:Auditorium, Physics 202
END:VEVENT
END:VCALENDAR