BEGIN:VCALENDAR
VERSION:2.0
BEGIN:VEVENT
DTSTART;TZID=US/Eastern:20110922T160000
DTEND;TZID=US/Eastern:20110922T170000
SUMMARY:New Insights into the Influence of Nano-Structure on Exciton Dynamics -- Dr. Ken Knappenberger
DESCRIPTION:Departmental Colloquium. Shape- and crystal structure-dependent exciton dynamics of semiconducting nanoparticles were investigated using time- and polarization-resolved magneto-photoluminescence spectroscopy. Experiments were performed at low temperature (&lt;2 K) in magnetic fields up to 17.5 T to investigate spin-dependent radiative relaxation in CdSe quantum dots and nanorods. In contrast to 0-D quantum dots, one-dimensional CdSe nanorods displayed a high degree of spin polarization even at relatively low magnetic field strengths (2 T). The observed spin polarization, evident in intensity-integrated and wavelength-resolved photoluminescence and time-correlated single-photon counting measurements, resulted from spin-polarized excitons that were formed upon highly efficient mixing of &ldquo;dark&rdquo; and &ldquo;bright&rdquo; fine-structure states. The relative population of these fine-structures was dependent upon the strength of the applied magnetic field. These results demonstrate the potential use of particle shape and crystal structure, two key nanostructure design parameters, to control photoinduced nanoscale dynamics. The findings may impact significantly technologies such as solar-to-electric energy conversion, spintronics, and chemical lasers, which all employ the nanocrystal platform.
LOCATION:Auditorium, Physics 202
END:VEVENT
END:VCALENDAR