BEGIN:VCALENDAR
VERSION:2.0
BEGIN:VEVENT
DTSTART;TZID=US/Eastern:20100319T210000
DTEND;TZID=US/Eastern:20100319T233000
SUMMARY:Observatory Open House  -- 
DESCRIPTION:Observatory Open House. The Department of Physics and Astronomy would like to invite the public to join them for a evening to view the night sky at the department observatory. The observatory is located at the top of the Physics building. Everyone will meet in the physics main lobby and be lead up to the roof in groups to observe. All ages are welcome to attend. In case of inclement weather, there will be a talk held. As the weather can be unpredictable, it is impossible to know whether a viewing will be possible until shortly before the event begins.
LOCATION:Physics Observatory
END:VEVENT
END:VCALENDAR